BEGIN:VCALENDAR
PRODID:-//AOC//NONSGML//EN
VERSION:2.0
CALSCALE:GREGORIAN
METHOD:PUBLISH
X-WR-CALNAME:Événements
X-WR-TIMEZONE:Europe/Rome
X-WR-CALDESC:
BEGIN:VEVENT
UID:f212665de0ed4cac357c28b973334188
DTSTART:20251104T220000Z
DTEND:20251115T220000Z
DTSTAMP:20251104T220000Z
CREATED:20260421T094145Z
DESCRIPTION:
LAST-MODIFIED:20251104T220000Z
LOCATION:École supérieure des Arts Décoratifs - PSL
URL:https://www.ensad.fr/fr/exposition-surface-de-reparation-design-pour-un-monde-meilleur
SUMMARY:Exposition – Surface de réparation. Design pour un monde meilleur
SEQUENCE:0
STATUS:CONFIRMED
TRANSP:OPAQUE
END:VEVENT
END:VCALENDAR